Workbook

Sheet THANG 1
A1: ĐẢNG BỘ TRƯỜNG CAO ĐẲNG LÝ TỰ TRỌNG THÀNH PHỐ HỒ CHÍ MINH CHI BỘ 2 * | G1: CỘNG HÒA XÃ HỘI CHỦ NGHĨA VIỆT NAM Độc lập - Tự do - Hạnh phúc
A2: BẢNG TỔNG HỢP Các khoản thu nhập dùng để tính đóng đảng phí tháng 01 năm 2019
A3: TT | B3: Họ tên | C3: HS lương | D3: PC CV | E3: PC VK | G3: Phụ cấp TNNG | I3: Lương cơ bản | J3: Tổng lương | K3: Đảng phí 1% | L3: Truy thu
B4: 2 | C4: 3 | D4: 4 | E4: 5 | F4: 6=3*5 | G4: 7 | H4: 8=(3+4+6)*7 | I4: 9 | J4: 10 = 8*9 | K4: 11=10*1%
A5: 1 | B5: Phạm Hữu Lộc | C5: 4.98 | D5: 0.9 | E5: 0.09 | F5: =C5*E5 -> 0.4482 | G5: 0.31 | H5: =(C5+D5+F5)*G5 -> 1.961742 | I5: 1390000 | J5: =(C5+D5+F5+H5)*I5 -> 11523019 | K5: =J5*1% -> 115230.19
A6: 2 | B6: Lâm Viết Dũng | C6: 4.65 | D6: 0.45 | F6: =C6*E6 -> 0 | G6: 0.16 | H6: =(C6+D6+F6)*G6 -> 0.816 | I6: 1390000 | J6: =(C6+D6+F6+H6)*I6 -> 8223240 | K6: =J6*1% -> 82232.4
A7: 3 | B7: Nguyễn Thị Hoa | C7: 4.65 | D7: 0.35 | F7: =C7*E7 -> 0 | I7: 1390000 | J7: =(C7+D7+F7+H7)*I7 -> 6950000 | K7: =J7*1% -> 69500
A8: 4 | B8: Nguyễn Văn Chì | C8: 3 | F8: =C8*E8 -> 0 | I8: 1390000 | J8: =(C8+D8+F8+H8)*I8 -> 4170000 | K8: =J8*1% -> 41700
A9: 5 | B9: Nguyễn Thanh Lâm | C9: 4.98 | D9: 0.45 | E9: 0.11 | F9: =C9*E9 -> 0.5478 | G9: 0.16 | H9: =(C9+D9+F9)*G9 -> 0.956448 | I9: 1390000 | J9: =(C9+D9+F9+H9)*I9 -> 9638604.7 | K9: =J9*1% -> 96386.047
A10: 6 | B10: Nguyễn Văn Chiến | C10: 3.66 | D10: 0.35 | F10: =C10*E10 -> 0 | I10: 1390000 | J10: =(C10+D10+F10+H10)*I10 -> 5573900 | K10: =J10*1% -> 55739
A11: 7 | B11: Nguyễn Văn Tấn | C11: 4.98 | D11: 0.35 | E11: 0.1 | F11: =C11*E11 -> 0.498 | I11: 1390000 | J11: =(C11+D11+F11+H11)*I11 -> 8100920 | K11: =J11*1% -> 81009.2
A12: 8 | B12: Nguyễn Thị Kim Dung | C12: 3.66 | D12: 0.35 | F12: =C12*E12 -> 0 | I12: 1390000 | J12: =(C12+D12+F12+H12)*I12 -> 5573900 | K12: =J12*1% -> 55739
A13: 9 | B13: Nguyễn Chí Nhân | C13: 3.99 | D13: 0.35 | F13: =C13*E13 -> 0 | G13: 0.13 | H13: =(C13+D13+F13)*G13 -> 0.5642 | I13: 1390000 | J13: =(C13+D13+F13+H13)*I13 -> 6816838 | K13: =J13*1% -> 68168.38
A14: 10 | B14: Lê Quang Liêm | C14: 4.65 | D14: 0.45 | F14: =C14*E14 -> 0 | G14: 0.17 | H14: =(C14+D14+F14)*G14 -> 0.867 | I14: 1390000 | J14: =(C14+D14+F14+H14)*I14 -> 8294130 | K14: =J14*1% -> 82941.3
A15: 11 | B15: Võ Thị Xuân Thơ | C15: 3.99 | F15: =C15*E15 -> 0 | I15: 1390000 | J15: =(C15+D15+F15+H15)*I15 -> 5546100 | K15: =J15*1% -> 55461
A16: 12 | B16: Phạm Hữu Tấn | C16: 2.67 | F16: =C16*E16 -> 0 | I16: 1390000 | J16: =(C16+D16+F16+H16)*I16 -> 3711300 | K16: =J16*1% -> 37113
A17: 13 | B17: Nguyễn Ngọc Trang | C17: 5.42 | D17: 0.45 | F17: =C17*E17 -> 0 | G17: 0.26 | H17: =(C17+D17+F17)*G17 -> 1.5262 | I17: 1390000 | J17: =(C17+D17+F17+H17)*I17 -> 10280718 | K17: =J17*1% -> 102807.18 | M17: =L19+L20+L21 -> 37600 | N17: =M17*30% -> 11280
A18: 14 | B18: Trương Thị Hồng | C18: 2.67 | F18: =C18*E18 -> 0 | H18: =(C18+D18+F18)*G18 -> 0 | I18: 1390000 | J18: =(C18+D18+F18+H18)*I18 -> 3711300 | K18: =J18*1% -> 37113 | N18: =M17-N17 -> 26320 | O18: =N18*30% -> 7896
A19: 15 | B19: Nguyễn Yến Nhi | C19: 3 | F19: =C19*E19 -> 0 | H19: =(C19+D19+F19)*G19 -> 0 | I19: 1390000 | J19: =(C19+D19+F19+H19)*I19 -> 4170000 | K19: =J19*1% -> 41700 | L19: 4587
A20: 16 | B20: Lưu Hoàng Hải Yến | C20: 2.67 | F20: =C20*E20 -> 0 | I20: 1390000 | J20: =(C20+D20+F20+H20)*I20 -> 3711300 | K20: =J20*1% -> 37113 | L20: 16263
A21: 17 | B21: Trần Quốc Định | C21: 2.41 | F21: =C21*E21 -> 0 | I21: 1390000 | J21: =(C21+D21+F21+H21)*I21 -> 3349900 | K21: =J21*1% -> 33499 | L21: 16750 | N21: =SUM(K5:K21) -> 1093451.7
A22: 18 | B22: Thái Thị My Sa | C22: 2.67 | F22: =C22*E22 -> 0 | I22: 1390000 | J22: =(C22+D22+F22+H22)*I22 -> 3711300 | K22: =J22*1% -> 37113
A23: TỔNG CỘNG: | J23: =SUM(J5:J22) -> 1.1305647e+08 | K23: =SUM(K5:K22) -> 1130564.7
A25: - Chi bộ trích lại 30% tiền thu đảng phí: | D25: =K23*30% -> 339169.41 | E25: đồng
A26: - Chi bộ nộp lên đảng bộ trường 70%: | D26: =K23*70% -> 791395.29 | E26: đồng
G28: TP.Hồ Chí Minh, ngày tháng năm 2019
A29: NGƯỜI LẬP BÁO CÁO | G29: T/M BỘ
G30: BÍ THƯ
A36: Nguyễn Thị Hoa | G36: Lâm Viết Dũng

Sheet THANG 2
A1: ĐẢNG BỘ TRƯỜNG CAO ĐẲNG LÝ TỰ TRỌNG THÀNH PHỐ HỒ CHÍ MINH CHI BỘ 2 * | G1: CỘNG HÒA XÃ HỘI CHỦ NGHĨA VIỆT NAM Độc lập - Tự do - Hạnh phúc
A2: BẢNG TỔNG HỢP Các khoản thu nhập dùng để tính đóng đảng phí tháng 02 năm 2019
A3: TT | B3: Họ tên | C3: HS lương | D3: PC CV | E3: PC VK | G3: Phụ cấp TNNG | I3: Lương cơ bản | J3: Tổng lương | K3: Đảng phí 1% | L3: Truy thu
B4: 2 | C4: 3 | D4: 4 | E4: 5 | F4: 6=3*5 | G4: 7 | H4: 8=(3+4+6)*7 | I4: 9 | J4: 10 = 8*9 | K4: 11=10*1%
A5: 1 | B5: Phạm Hữu Lộc | C5: 4.98 | D5: 0.9 | E5: 0.09 | F5: =C5*E5 -> 0.4482 | G5: 0.31 | H5: =(C5+D5+F5)*G5 -> 1.961742 | I5: 1390000 | J5: =(C5+D5+F5+H5)*I5 -> 11523019 | K5: =J5*1% -> 115230.19
A6: 2 | B6: Lâm Viết Dũng | C6: 4.65 | D6: 0.45 | F6: =C6*E6 -> 0 | G6: 0.16 | H6: =(C6+D6+F6)*G6 -> 0.816 | I6: 1390000 | J6: =(C6+D6+F6+H6)*I6 -> 8223240 | K6: =J6*1% -> 82232.4
A7: 3 | B7: Nguyễn Thị Hoa | C7: 4.65 | D7: 0.35 | F7: =C7*E7 -> 0 | I7: 1390000 | J7: =(C7+D7+F7+H7)*I7 -> 6950000 | K7: =J7*1% -> 69500
A8: 4 | B8: Nguyễn Văn Chì | C8: 3 | F8: =C8*E8 -> 0 | I8: 1390000 | J8: =(C8+D8+F8+H8)*I8 -> 4170000 | K8: =J8*1% -> 41700
A9: 5 | B9: Nguyễn Thanh Lâm | C9: 4.98 | D9: 0.45 | E9: 0.11 | F9: =C9*E9 -> 0.5478 | G9: 0.16 | H9: =(C9+D9+F9)*G9 -> 0.956448 | I9: 1390000 | J9: =(C9+D9+F9+H9)*I9 -> 9638604.7 | K9: =J9*1% -> 96386.047
A10: 6 | B10: Nguyễn Văn Chiến | C10: 3.66 | D10: 0.35 | F10: =C10*E10 -> 0 | I10: 1390000 | J10: =(C10+D10+F10+H10)*I10 -> 5573900 | K10: =J10*1% -> 55739
A11: 7 | B11: Nguyễn Văn Tấn | C11: 4.98 | D11: 0.35 | E11: 0.1 | F11: =C11*E11 -> 0.498 | I11: 1390000 | J11: =(C11+D11+F11+H11)*I11 -> 8100920 | K11: =J11*1% -> 81009.2
A12: 8 | B12: Nguyễn Thị Kim Dung | C12: 3.66 | D12: 0.35 | F12: =C12*E12 -> 0 | I12: 1390000 | J12: =(C12+D12+F12+H12)*I12 -> 5573900 | K12: =J12*1% -> 55739
A13: 9 | B13: Nguyễn Chí Nhân | C13: 3.99 | D13: 0.35 | F13: =C13*E13 -> 0 | G13: 0.13 | H13: =(C13+D13+F13)*G13 -> 0.5642 | I13: 1390000 | J13: =(C13+D13+F13+H13)*I13 -> 6816838 | K13: =J13*1% -> 68168.38
A14: 10 | B14: Lê Quang Liêm | C14: 4.65 | D14: 0.45 | F14: =C14*E14 -> 0 | G14: 0.17 | H14: =(C14+D14+F14)*G14 -> 0.867 | I14: 1390000 | J14: =(C14+D14+F14+H14)*I14 -> 8294130 | K14: =J14*1% -> 82941.3
A15: 11 | B15: Võ Thị Xuân Thơ | C15: 3.99 | F15: =C15*E15 -> 0 | I15: 1390000 | J15: =(C15+D15+F15+H15)*I15 -> 5546100 | K15: =J15*1% -> 55461
A16: 12 | B16: Phạm Hữu Tấn | C16: 2.67 | F16: =C16*E16 -> 0 | I16: 1390000 | J16: =(C16+D16+F16+H16)*I16 -> 3711300 | K16: =J16*1% -> 37113
A17: 13 | B17: Nguyễn Ngọc Trang | C17: 5.42 | D17: 0.45 | F17: =C17*E17 -> 0 | G17: 0.26 | H17: =(C17+D17+F17)*G17 -> 1.5262 | I17: 1390000 | J17: =(C17+D17+F17+H17)*I17 -> 10280718 | K17: =J17*1% -> 102807.18
A18: 14 | B18: Trương Thị Hồng | C18: 2.67 | F18: =C18*E18 -> 0 | H18: =(C18+D18+F18)*G18 -> 0 | I18: 1390000 | J18: =(C18+D18+F18+H18)*I18 -> 3711300 | K18: =J18*1% -> 37113
A19: 15 | B19: Nguyễn Yến Nhi | C19: 3 | F19: =C19*E19 -> 0 | H19: =(C19+D19+F19)*G19 -> 0 | I19: 1390000 | J19: =(C19+D19+F19+H19)*I19 -> 4170000 | K19: =J19*1%+L19 -> 41700
A20: 16 | B20: Lưu Hoàng Hải Yến | C20: 2.67 | F20: =C20*E20 -> 0 | I20: 1390000 | J20: =(C20+D20+F20+H20)*I20 -> 3711300 | K20: =J20*1% -> 37113
A21: 17 | B21: Trần Quốc Định | C21: 2.41 | F21: =C21*E21 -> 0 | I21: 1390000 | J21: =(C21+D21+F21+H21)*I21 -> 3349900 | K21: =J21*1% -> 33499
A22: 18 | B22: Thái Thị My Sa | C22: 2.67 | I22: 1390000 | J22: =((C22+D22+F22+H22)*I22) -> 3711300 | K22: =J22*0.005 -> 18556.5
A23: TỔNG CỘNG: | J23: =SUM(J5:J22) -> 1.1305647e+08 | K23: =SUM(K5:K22) -> 1112008.2
B24: Ghi chú: Đảng viên Thái Thị My Sa, nghỉ chế độ thai sản từ 1/2/2019 - 1/8/2019 (Đóng 5%)
A25: - Chi bộ trích lại 30% tiền thu đảng phí: | D25: =K23*30% -> 333602.46 | E25: đồng
A26: - Chi bộ nộp lên đảng bộ trường 70%: | D26: =K23*70% -> 778405.74 | E26: đồng
M27: =790861*2+797764 -> 2379486
G28: TP.Hồ Chí Minh, ngày tháng năm 2019 | M28: =M27-2397486 -> -18000
A29: NGƯỜI LẬP BÁO CÁO | G29: T/M CHI BỘ
G30: BÍ THƯ
A36: Nguyễn Thị Hoa | G36: Lâm Viết Dũng

Sheet THANG 3
A1: ĐẢNG BỘ TRƯỜNG CAO ĐẲNG LÝ TỰ TRỌNG THÀNH PHỐ HỒ CHÍ MINH CHI BỘ 2 * | G1: CỘNG HÒA XÃ HỘI CHỦ NGHĨA VIỆT NAM Độc lập - Tự do - Hạnh phúc
A2: BẢNG TỔNG HỢP Các khoản thu nhập dùng để tính đóng đảng phí tháng 3 năm 2019
A3: TT | B3: Họ tên | C3: HS lương | D3: PC CV | E3: PC VK | G3: Phụ cấp TNNG | I3: Lương cơ bản | J3: Tổng lương | K3: Đảng phí 1% | L3: Truy thu
B4: 2 | C4: 3 | D4: 4 | E4: 5 | F4: 6=3*5 | G4: 7 | H4: 8=(3+4+6)*7 | I4: 9 | J4: 10 = 8*9 | K4: 11=10*1%
A5: 1 | B5: Phạm Hữu Lộc | C5: 4.98 | D5: 0.9 | E5: 0.09 | F5: =C5*E5 -> 0.4482 | G5: 0.31 | H5: =(C5+D5+F5)*G5 -> 1.961742 | I5: 1390000 | J5: =(C5+D5+F5+H5)*I5 -> 11523019 | K5: =J5*1% -> 115230.19
A6: 2 | B6: Lâm Viết Dũng | C6: 4.65 | D6: 0.45 | F6: =C6*E6 -> 0 | G6: 0.16 | H6: =(C6+D6+F6)*G6 -> 0.816 | I6: 1390000 | J6: =(C6+D6+F6+H6)*I6 -> 8223240 | K6: =J6*1% -> 82232.4
A7: 3 | B7: Nguyễn Thị Hoa | C7: 4.65 | D7: 0.35 | F7: =C7*E7 -> 0 | I7: 1390000 | J7: =(C7+D7+F7+H7)*I7 -> 6950000 | K7: =J7*1% -> 69500
A8: 4 | B8: Nguyễn Văn Chì | C8: 3 | F8: =C8*E8 -> 0 | I8: 1390000 | J8: =(C8+D8+F8+H8)*I8 -> 4170000 | K8: =J8*1% -> 41700
A9: 5 | B9: Nguyễn Thanh Lâm | C9: 4.98 | D9: 0.45 | E9: 0.11 | F9: =C9*E9 -> 0.5478 | G9: 0.16 | H9: =(C9+D9+F9)*G9 -> 0.956448 | I9: 1390000 | J9: =(C9+D9+F9+H9)*I9 -> 9638604.7 | K9: =J9*1% -> 96386.047
A10: 6 | B10: Nguyễn Văn Chiến | C10: 3.66 | D10: 0.35 | F10: =C10*E10 -> 0 | I10: 1390000 | J10: =(C10+D10+F10+H10)*I10 -> 5573900 | K10: =J10*1% -> 55739
A11: 7 | B11: Nguyễn Văn Tấn | C11: 4.98 | D11: 0.35 | E11: 0.1 | F11: =C11*E11 -> 0.498 | I11: 1390000 | J11: =(C11+D11+F11+H11)*I11 -> 8100920 | K11: =J11*1% -> 81009.2
A12: 8 | B12: Nguyễn Thị Kim Dung | C12: 3.66 | D12: 0.35 | F12: =C12*E12 -> 0 | I12: 1390000 | J12: =(C12+D12+F12+H12)*I12 -> 5573900 | K12: =J12*1% -> 55739
A13: 9 | B13: Nguyễn Chí Nhân | C13: 3.99 | D13: 0.35 | F13: =C13*E13 -> 0 | G13: 0.13 | H13: =(C13+D13+F13)*G13 -> 0.5642 | I13: 1390000 | J13: =(C13+D13+F13+H13)*I13 -> 6816838 | K13: =J13*1% -> 68168.38
A14: 10 | B14: Lê Quang Liêm | C14: 4.65 | D14: 0.45 | F14: =C14*E14 -> 0 | G14: 0.17 | H14: =(C14+D14+F14)*G14 -> 0.867 | I14: 1390000 | J14: =(C14+D14+F14+H14)*I14 -> 8294130 | K14: =J14*1% -> 82941.3
A15: 11 | B15: Võ Thị Xuân Thơ | C15: 3.99 | F15: =C15*E15 -> 0 | I15: 1390000 | J15: =(C15+D15+F15+H15)*I15 -> 5546100 | K15: =J15*1% -> 55461
A16: 12 | B16: Phạm Hữu Tấn | C16: 2.67 | F16: =C16*E16 -> 0 | I16: 1390000 | J16: =(C16+D16+F16+H16)*I16 -> 3711300 | K16: =J16*1% -> 37113
A17: 13 | B17: Nguyễn Ngọc Trang | C17: 5.42 | D17: 0.45 | F17: =C17*E17 -> 0 | G17: 0.26 | H17: =(C17+D17+F17)*G17 -> 1.5262 | I17: 1390000 | J17: =(C17+D17+F17+H17)*I17 -> 10280718 | K17: =J17*1% -> 102807.18
A18: 14 | B18: Trương Thị Hồng | C18: 2.67 | F18: =C18*E18 -> 0 | H18: =(C18+D18+F18)*G18 -> 0 | I18: 1390000 | J18: =(C18+D18+F18+H18)*I18 -> 3711300 | K18: =J18*1% -> 37113
A19: 15 | B19: Nguyễn Yến Nhi | C19: 3 | F19: =C19*E19 -> 0 | H19: =(C19+D19+F19)*G19 -> 0 | I19: 1390000 | J19: =(C19+D19+F19+H19)*I19 -> 4170000 | K19: =J19*1% -> 41700
A20: 16 | B20: Lưu Hoàng Hải Yến | C20: 2.67 | F20: =C20*E20 -> 0 | I20: 1390000 | J20: =(C20+D20+F20+H20)*I20 -> 3711300 | K20: =J20*1%+L20 -> 37113
A21: 17 | B21: Trần Quốc Định | C21: 2.41 | F21: =C21*E21 -> 0 | I21: 1390000 | J21: =(C21+D21+F21+H21)*I21 -> 3349900 | K21: =J21*1% -> 33499
A22: 18 | B22: Thái Thị My Sa | C22: 2.67 | F22: =C22*E22 -> 0 | I22: 1390000 | J22: =(C22+D22+F22+H22)*I22 -> 3711300 | K22: =J22*0.005 -> 18556.5
A23: TỔNG CỘNG: | J23: =SUM(J5:J22) -> 1.1305647e+08 | K23: =SUM(K5:K22) -> 1112008.2
B24: Ghi chú: Đảng viên Thái Thị My Sa, nghỉ chế độ thai sản từ 1/2/2019 - 1/8/2019 (Đóng 5%)
A25: - Chi bộ trích lại 30% tiền thu đảng phí: | D25: =K23*30% -> 333602.46 | E25: đồng
A26: - Chi bộ nộp lên đảng bộ trường 70%: | D26: =K23*70% -> 778405.74 | E26: đồng
G28: TP.Hồ Chí Minh, ngày tháng năm 2019
A29: NGƯỜI LẬP BÁO CÁO | G29: T/M CHI BỘ
G30: BÍ THƯ
A36: Nguyễn Thị Hoa | G36: Lâm Viết Dũng

Sheet QUI I
A1: ĐẢNG BỘ TRƯỜNG CAO ĐẲNG LÝ TỰ TRỌNGTHÀNH PHỐ HỒ CHÍ MINH CHI BỘ 2 * | D1: CỘNG HÒA XÃ HỘI CHỦ NGHĨA VIỆT NAM Độc lập - Tự do - Hạnh phúc
A2: BẢNG TỔNG HỢP Các khoản thu nhập dùng để tính đóng đảng phí quý I năm 2019
A3: TT | B3: Họ tên | C3: Đảng phí tháng 01 | D3: Đảng phí tháng 02 | E3: Đảng phí tháng 3 | F3: Đảng phí Quý I
A4: 1 | B4: Phạm Hữu Lộc | C4: ='THANG 1'!K5 -> 115230.19 | D4: 115230.19 | E4: 115230.19 | F4: =SUM(C4:E4) -> 345690.58
A5: 2 | B5: Lâm Viết Dũng | C5: ='THANG 1'!K6 -> 82232.4 | D5: 82232.4 | E5: 82232.4 | F5: =SUM(C5:E5) -> 246697.2
A6: 3 | B6: Nguyễn Thị Hoa | C6: ='THANG 1'!K7 -> 69500 | D6: 69500 | E6: 69500 | F6: =SUM(C6:E6) -> 208500
A7: 4 | B7: Nguyễn Văn Chì | C7: ='THANG 1'!K8 -> 41700 | D7: 41700 | E7: 41700 | F7: =SUM(C7:E7) -> 125100
A8: 5 | B8: Nguyễn Thanh Lâm | C8: ='THANG 1'!K9 -> 96386.047 | D8: =C8 -> 96386.047 | E8: =D8 -> 96386.047 | F8: =SUM(C8:E8) -> 289158.14
A9: 6 | B9: Nguyễn Văn Chiến | C9: ='THANG 1'!K10 -> 55739 | D9: 55739 | E9: 55739 | F9: =SUM(C9:E9) -> 167217
A10: 7 | B10: Nguyễn Văn Tấn | C10: ='THANG 1'!K11 -> 81009.2 | D10: =C10 -> 81009.2 | E10: =D10 -> 81009.2 | F10: =SUM(C10:E10) -> 243027.6
A11: 8 | B11: Nguyễn Thị Kim Dung | C11: ='THANG 1'!K12 -> 55739 | D11: 55739 | E11: 55739 | F11: =SUM(C11:E11) -> 167217
A12: 9 | B12: Nguyễn Chí Nhân | C12: ='THANG 1'!K13 -> 68168.38 | D12: 68168.38 | E12: 68168.38 | F12: =SUM(C12:E12) -> 204505.14
A13: 10 | B13: Lê Quang Liêm | C13: ='THANG 1'!K14 -> 82941.3 | D13: 82941.3 | E13: 82941.3 | F13: =SUM(C13:E13) -> 248823.9
A14: 11 | B14: Võ Thị Xuân Thơ | C14: ='THANG 1'!K15 -> 55461 | D14: 55461 | E14: 55461 | F14: =SUM(C14:E14) -> 166383
A15: 12 | B15: Phạm Hữu Tấn | C15: ='THANG 1'!K16 -> 37113 | D15: 37113 | E15: 37113 | F15: =SUM(C15:E15) -> 111339
A16: 13 | B16: Nguyễn Ngọc Trang | C16: ='THANG 1'!K17 -> 102807.18 | D16: =C16 -> 102807.18 | E16: =D16 -> 102807.18 | F16: =SUM(C16:E16) -> 308421.54
A17: 14 | B17: Trương Thị Hồng | C17: ='THANG 1'!K18 -> 37113 | D17: 37113 | E17: 37113 | F17: =SUM(C17:E17) -> 111339
A18: 15 | B18: Nguyễn Yến Nhi | C18: ='THANG 1'!K19 -> 41700 | D18: 41700 | E18: 41700 | F18: =SUM(C18:E18) -> 125100
A19: 16 | B19: Lưu Hoàng Hải Yến | C19: ='THANG 1'!K20 -> 37113 | D19: =C19 -> 37113 | E19: =D19 -> 37113 | F19: =SUM(C19:E19) -> 111339
A20: 17 | B20: Trần Quốc Định | C20: ='THANG 1'!K21 -> 33499 | D20: 33499 | E20: =D20 -> 33499 | F20: =SUM(C20:E20) -> 100497
A21: 18 | B21: Thái Thị My Sa | C21: ='THANG 1'!K22 -> 37113 | D21: ='THANG 2'!K22 -> 18556.5 | E21: ='THANG 3'!K22 -> 18556.5 | F21: =SUM(C21:E21) -> 74226
A22: TỔNG CỘNG: | C22: =SUM(C4:C21) -> 1130564.7 | D22: =SUM(D4:D21) -> 1112008.2 | E22: =SUM(E4:E21) -> 1112008.2 | F22: =SUM(F4:F21) -> 3354581.1
A24: - Chi bộ trích lại 30% tiền thu đảng phí: | C24: =F22*30% -> 1006374.3 | D24: đồng
A25: - Chi bộ nộp lên đảng bộ trường 70%: | C25: =F22*70% -> 2348206.8 | D25: đồng
D27: TP.Hồ Chí Minh, ngày tháng năm 2019
A28: NGƯỜI LẬP BÁO CÁO | D28: T/M CHI BỘ
D29: BÍ THƯ
A35: Nguyễn Thị Hoa | D35: Lâm Viết Dũng

Sheet THANG 4
A1: ĐẢNG BỘ TRƯỜNG CAO ĐẲNG LÝ TỰ TRỌNG THÀNH PHỐ HỒ CHÍ MINH CHI BỘ 2 * | G1: CỘNG HÒA XÃ HỘI CHỦ NGHĨA VIỆT NAM Độc lập - Tự do - Hạnh phúc
A2: BẢNG TỔNG HỢP Các khoản thu nhập dùng để tính đóng đảng phí tháng 4/2019 và truy thu Q2,Q3,Q4/2018 (0,6)
A3: TT | B3: Họ tên | C3: HS lương | D3: PC CV | E3: PC VK | G3: Phụ cấp TNNG | I3: Lương cơ bản | J3: Tổng lương | K3: Đảng phí 1% | L3: Truy thu | Q3: Truy thu (0,6) | R3: Truy thu HSCV,HS Lương | S3: Số tiền nộp
A4: 1 | B4: 2 | C4: 3 | D4: 4 | E4: 5 | F4: 6=3*5 | G4: 7 | H4: 8=(3+4+6)*7 | I4: 9 | J4: 10 = 8*9 | K4: 11=10*1% | Q4: 12 | R4: 13 | S4: 14=11+12+13
A5: 1 | B5: Phạm Hữu Lộc | C5: 4.98 | D5: 0.9 | E5: 0.09 | F5: =C5*E5 -> 0.4482 | G5: 0.32 | H5: =(C5+D5+F5)*G5 -> 2.025024 | I5: 1390000 | J5: =(C5+D5+F5+H5)*I5 -> 11610981 | K5: =J5*1% -> 116109.81 | Q5: 463162 | S5: =K5+Q5+R5 -> 579271.81
A6: 2 | B6: Lâm Viết Dũng | C6: 4.65 | D6: 0.45 | F6: =C6*E6 -> 0 | G6: 0.16 | H6: =(C6+D6+F6)*G6 -> 0.816 | I6: 1390000 | J6: =(C6+D6+F6+H6)*I6 -> 8223240 | K6: =J6*1% -> 82232.4 | Q6: 374544 | S6: =K6+Q6+R6 -> 456776.4
A7: 3 | B7: Nguyễn Thị Hoa | C7: 4.65 | D7: 0.35 | F7: =C7*E7 -> 0 | I7: 1390000 | J7: =(C7+D7+F7+H7)*I7 -> 6950000 | K7: =J7*1% -> 69500 | Q7: 367200 | S7: =K7+Q7+R7 -> 436700
A8: 4 | B8: Nguyễn Văn Chì | C8: 3 | F8: =C8*E8 -> 0 | I8: 1390000 | J8: =(C8+D8+F8+H8)*I8 -> 4170000 | K8: =J8*1% -> 41700 | Q8: 220320 | S8: =K8+Q8+R8 -> 262020
A9: 5 | B9: Nguyễn Thanh Lâm | C9: 4.98 | D9: 0.45 | E9: 0.11 | F9: =C9*E9 -> 0.5478 | G9: 0.16 | H9: =(C9+D9+F9)*G9 -> 0.956448 | I9: 1390000 | J9: =(C9+D9+F9+H9)*I9 -> 9638604.7 | K9: =J9*1% -> 96386.047 | Q9: 436598 | S9: =K9+Q9+R9 -> 532984.05
A10: 6 | B10: Nguyễn Văn Chiến | C10: 3.66 | D10: 0.35 | F10: =C10*E10 -> 0 | I10: 1390000 | J10: =(C10+D10+F10+H10)*I10 -> 5573900 | K10: =J10*1% -> 55739 | Q10: 294494 | S10: =K10+Q10+R10 -> 350233
A11: 7 | B11: Nguyễn Văn Tấn | C11: 4.98 | D11: 0.35 | E11: 0.1 | F11: =C11*E11 -> 0.498 | I11: 1390000 | J11: =(C11+D11+F11+H11)*I11 -> 8100920 | K11: =J11*1% -> 81009.2 | Q11: 425597 | S11: =K11+Q11+R11 -> 506606.2
A12: 8 | B12: Nguyễn Thị Kim Dung | C12: 3.66 | D12: 0.35 | F12: =C12*E12 -> 0 | I12: 1390000 | J12: =(C12+D12+F12+H12)*I12 -> 5573900 | K12: =J12*1% -> 55739 | Q12: 294494 | S12: =K12+Q12+R12 -> 350233
A13: 9 | B13: Nguyễn Chí Nhân | C13: 3.99 | D13: 0.45 | F13: =C13*E13 -> 0 | G13: 0.13 | H13: =(C13+D13+F13)*G13 -> 0.5772 | I13: 1390000 | J13: =(C13+D13+F13+H13)*I13 -> 6973908 | K13: =J13*1% -> 69739.08 | Q13: 322066 | R13: 9730 | S13: =K13+Q13+R13 -> 401535.08
A14: 10 | B14: Lê Quang Liêm | C14: 4.65 | D14: 0.45 | F14: =C14*E14 -> 0 | G14: 0.17 | H14: =(C14+D14+F14)*G14 -> 0.867 | I14: 1390000 | J14: =(C14+D14+F14+H14)*I14 -> 8294130 | K14: =J14*1% -> 82941.3 | Q14: 374544 | S14: =K14+Q14+R14 -> 457485.3
A15: 11 | B15: Võ Thị Xuân Thơ | C15: 3.99 | F15: =C15*E15 -> 0 | I15: 1390000 | J15: =(C15+D15+F15+H15)*I15 -> 5546100 | K15: =J15*1% -> 55461 | Q15: 293026 | S15: =K15+Q15+R15 -> 348487
A16: 12 | B16: Phạm Hữu Tấn | C16: 2.67 | F16: =C16*E16 -> 0 | I16: 1390000 | J16: =(C16+D16+F16+H16)*I16 -> 3711300 | K16: =J16*1% -> 37113 | S16: =K16+Q16+R16 -> 37113
A17: 13 | B17: Nguyễn Ngọc Trang | C17: 5.42 | D17: 0.45 | F17: =C17*E17 -> 0 | G17: 0.26 | H17: =(C17+D17+F17)*G17 -> 1.5262 | I17: 1390000 | J17: =(C17+D17+F17+H17)*I17 -> 10280718 | K17: =J17*1% -> 102807.18 | Q17: 431093 | S17: =K17+Q17+R17 -> 533900.18
A18: 14 | B18: Trương Thị Hồng | C18: 2.67 | F18: =C18*E18 -> 0 | H18: =(C18+D18+F18)*G18 -> 0 | I18: 1390000 | J18: =(C18+D18+F18+H18)*I18 -> 3711300 | K18: =J18*1% -> 37113 | S18: =K18+Q18+R18 -> 37113
A19: 15 | B19: Nguyễn Yến Nhi | C19: 3 | F19: =C19*E19 -> 0 | H19: =(C19+D19+F19)*G19 -> 0 | I19: 1390000 | J19: =(C19+D19+F19+H19)*I19 -> 4170000 | K19: =J19*1% -> 41700 | S19: =K19+Q19+R19 -> 41700
A20: 16 | B20: Lưu Hoàng Hải Yến | C20: 2.67 | F20: =C20*E20 -> 0 | I20: 1390000 | J20: =(C20+D20+F20+H20)*I20 -> 3711300 | K20: =J20*1%+L20 -> 37113 | Q20: 133607 | R20: 18384 | S20: =K20+Q20+R20 -> 189104
A21: 17 | B21: Trần Quốc Định | C21: 2.41 | F21: =C21*E21 -> 0 | I21: 1390000 | J21: =(C21+D21+F21+H21)*I21 -> 3349900 | K21: =J21*1% -> 33499 | S21: =K21+Q21+R21 -> 33499
A22: 18 | B22: Thái Thị My Sa | C22: 2.67 | F22: =C22*E22 -> 0 | I22: 1390000 | J22: =(C22+D22+F22+H22)*I22 -> 3711300 | K22: =J22*0.005 -> 18556.5 | S22: =K22+Q22+R22 -> 18556.5
A23: TỔNG CỘNG: | J23: =SUM(J5:J22) -> 1.133015e+08 | K23: =SUM(K5:K22) -> 1114458.5 | L23: =SUM(L5:L22) -> 0 | M23: =SUM(M5:M22) -> 0 | N23: =SUM(N5:N22) -> 0 | O23: =SUM(O5:O22) -> 0 | P23: =SUM(P5:P22) -> 0 | Q23: =SUM(Q5:Q22) -> 4430745 | ... S23: =SUM(S5:S22) -> 5573317.5
B24: Ghi chú: Đảng viên Thái Thị My Sa, nghỉ chế độ thai sản từ 1/2/2019 - 1/8/2019 (Đóng 5%)
A25: - Chi bộ trích lại 30% tiền thu đảng phí: | D25: =S23*30% -> 1671995.3
A26: - Chi bộ nộp lên đảng bộ trường 70%: | D26: =S23*70% -> 3901322.3
A28: NGƯỜI LẬP BÁO CÁO | K28: T/M CHI BỘ
K29: BÍ THƯ
A35: Nguyễn Thị Hoa | K35: Lâm Viết Dũng

Sheet THANG 5
A1: ĐẢNG BỘ TRƯỜNG CAO ĐẲNG LÝ TỰ TRỌNG THÀNH PHỐ HỒ CHÍ MINH CHI BỘ 2 * | G1: CỘNG HÒA XÃ HỘI CHỦ NGHĨA VIỆT NAM Độc lập - Tự do - Hạnh phúc
A2: BẢNG TỔNG HỢP Các khoản thu nhập dùng để tính đóng đảng phí tháng 5/2019
A3: TT | B3: Họ tên | C3: HS lương | D3: PC CV | E3: PC VK | G3: Phụ cấp TNNG | I3: Lương cơ bản | J3: Tổng lương | K3: Đảng phí 1% | L3: Truy thu
A4: 1 | B4: 2 | C4: 3 | D4: 4 | E4: 5 | F4: 6=3*5 | G4: 7 | H4: 8=(3+4+6)*7 | I4: 9 | J4: 10 = 8*9 | K4: 11=10*1%
A5: 1 | B5: Phạm Hữu Lộc | C5: 4.98 | D5: 0.9 | E5: 0.09 | F5: =C5*E5 -> 0.4482 | G5: 0.32 | H5: =(C5+D5+F5)*G5 -> 2.025024 | I5: 1390000 | J5: =(C5+D5+F5+H5)*I5 -> 11610981 | K5: =J5*1% -> 116109.81
A6: 2 | B6: Lâm Viết Dũng | C6: 4.65 | D6: 0.45 | F6: =C6*E6 -> 0 | G6: 0.16 | H6: =(C6+D6+F6)*G6 -> 0.816 | I6: 1390000 | J6: =(C6+D6+F6+H6)*I6 -> 8223240 | K6: =J6*1% -> 82232.4
A7: 3 | B7: Nguyễn Thị Hoa | C7: 4.65 | D7: 0.35 | F7: =C7*E7 -> 0 | I7: 1390000 | J7: =(C7+D7+F7+H7)*I7 -> 6950000 | K7: =J7*1% -> 69500
A8: 4 | B8: Nguyễn Văn Chì | C8: 3 | F8: =C8*E8 -> 0 | I8: 1390000 | J8: =(C8+D8+F8+H8)*I8 -> 4170000 | K8: =J8*1% -> 41700
A9: 5 | B9: Nguyễn Thanh Lâm | C9: 4.98 | D9: 0.45 | E9: 0.11 | F9: =C9*E9 -> 0.5478 | G9: 0.16 | H9: =(C9+D9+F9)*G9 -> 0.956448 | I9: 1390000 | J9: =(C9+D9+F9+H9)*I9 -> 9638604.7 | K9: =J9*1% -> 96386.047
A10: 6 | B10: Nguyễn Văn Chiến | C10: 3.66 | D10: 0.35 | F10: =C10*E10 -> 0 | I10: 1390000 | J10: =(C10+D10+F10+H10)*I10 -> 5573900 | K10: =J10*1% -> 55739
A11: 7 | B11: Nguyễn Văn Tấn | C11: 4.98 | D11: 0.35 | E11: 0.1 | F11: =C11*E11 -> 0.498 | I11: 1390000 | J11: =(C11+D11+F11+H11)*I11 -> 8100920 | K11: =J11*1% -> 81009.2
A12: 8 | B12: Nguyễn Thị Kim Dung | C12: 3.66 | D12: 0.35 | F12: =C12*E12 -> 0 | I12: 1390000 | J12: =(C12+D12+F12+H12)*I12 -> 5573900 | K12: =J12*1% -> 55739
A13: 9 | B13: Nguyễn Chí Nhân | C13: 3.99 | D13: 0.45 | F13: =C13*E13 -> 0 | G13: 0.13 | H13: =(C13+D13+F13)*G13 -> 0.5772 | I13: 1390000 | J13: =(C13+D13+F13+H13)*I13 -> 6973908 | K13: =J13*1% -> 69739.08
A14: 10 | B14: Lê Quang Liêm | C14: 4.65 | D14: 0.45 | F14: =C14*E14 -> 0 | G14: 0.17 | H14: =(C14+D14+F14)*G14 -> 0.867 | I14: 1390000 | J14: =(C14+D14+F14+H14)*I14 -> 8294130 | K14: =J14*1% -> 82941.3
A15: 11 | B15: Võ Thị Xuân Thơ | C15: 3.99 | F15: =C15*E15 -> 0 | I15: 1390000 | J15: =(C15+D15+F15+H15)*I15 -> 5546100 | K15: =J15*1% -> 55461
A16: 12 | B16: Phạm Hữu Tấn | C16: 2.67 | F16: =C16*E16 -> 0 | I16: 1390000 | J16: =(C16+D16+F16+H16)*I16 -> 3711300 | K16: =J16*1% -> 37113
A17: 13 | B17: Nguyễn Ngọc Trang | C17: 5.42 | D17: 0.45 | F17: =C17*E17 -> 0 | G17: 0.26 | H17: =(C17+D17+F17)*G17 -> 1.5262 | I17: 1390000 | J17: =(C17+D17+F17+H17)*I17 -> 10280718 | K17: =J17*1% -> 102807.18
A18: 14 | B18: Trương Thị Hồng | C18: 2.67 | F18: =C18*E18 -> 0 | H18: =(C18+D18+F18)*G18 -> 0 | I18: 1390000 | J18: =(C18+D18+F18+H18)*I18 -> 3711300 | K18: =J18*1% -> 37113
A19: 15 | B19: Nguyễn Yến Nhi | C19: 3 | F19: =C19*E19 -> 0 | H19: =(C19+D19+F19)*G19 -> 0 | I19: 1390000 | J19: =(C19+D19+F19+H19)*I19 -> 4170000 | K19: =J19*1% -> 41700
A20: 16 | B20: Lưu Hoàng Hải Yến | C20: 2.67 | F20: =C20*E20 -> 0 | I20: 1390000 | J20: =(C20+D20+F20+H20)*I20 -> 3711300 | K20: =J20*1%+L20 -> 37113
A21: 17 | B21: Trần Quốc Định | C21: 2.41 | F21: =C21*E21 -> 0 | I21: 1390000 | J21: =(C21+D21+F21+H21)*I21 -> 3349900 | K21: =J21*1% -> 33499
A22: 18 | B22: Thái Thị My Sa | C22: 2.67 | F22: =C22*E22 -> 0 | I22: 1390000 | J22: =(C22+D22+F22+H22)*I22 -> 3711300 | K22: =J22*0.005 -> 18556.5
A23: TỔNG CỘNG: | J23: =SUM(J5:J22) -> 1.133015e+08 | K23: =SUM(K5:K22) -> 1114458.5 | L23: =SUM(L5:L22) -> 0 | M23: =SUM(M5:M22) -> 0 | N23: =SUM(N5:N22) -> 0 | O23: =SUM(O5:O22) -> 0
B24: Ghi chú: Đảng viên Thái Thị My Sa, nghỉ chế độ thai sản từ 1/2/2019 - 1/8/2019 (Đóng 5%)
A25: - Chi bộ trích lại 30% tiền thu đảng phí: | D25: =K23*30% -> 334337.56
A26: - Chi bộ nộp lên đảng bộ trường 70%: | D26: =K23*70% -> 780120.96
A28: NGƯỜI LẬP BÁO CÁO | H28: T/M CHI BỘ
H29: BÍ THƯ
A35: Nguyễn Thị Hoa | H35: Lâm Viết Dũng

Sheet THANG 6
A1: ĐẢNG BỘ TRƯỜNG CAO ĐẲNG LÝ TỰ TRỌNG THÀNH PHỐ HỒ CHÍ MINH CHI BỘ 2 * | G1: CỘNG HÒA XÃ HỘI CHỦ NGHĨA VIỆT NAM Độc lập - Tự do - Hạnh phúc | R1: 1390000
A2: BẢNG TỔNG HỢP Các khoản thu nhập dùng để tính đóng đảng phí tháng 6/2019 và truy thu Q1/2019 (1,2)
A3: TT | B3: Họ tên | C3: HS lương | D3: PC CV | E3: PC VK | G3: Phụ cấp TNNG | I3: Tổng lương | J3: Truy thu 1,2 | K3: Tổng số tiền tính đảng phí | L3: Đảng phí 1% | M3: Truy thu | R3: Số tiền nộp
A4: 1 | B4: 2 | C4: 3 | D4: 4 | E4: 5 | F4: 6=3*5 | G4: 7 | H4: 8=(3+4+6)*7 | I4: 9 | J4: 10 | K4: 11 = 9+10 | L4: 12=11*1% | R4: 13
A5: 1 | B5: Phạm Hữu Lộc | C5: 4.98 | D5: 0.9 | E5: 0.09 | F5: =C5*E5 -> 0.4482 | G5: 0.32 | H5: =(C5+D5+F5)*G5 -> 2.025024 | I5: =(C5+D5+F5+H5)*$R$1 -> 11610981 | J5: 31666313 | K5: =I5+J5 -> 43277294 | L5: =K5*1% -> 432772.94 | R5: =L5 -> 432772.94
A6: 2 | B6: Lâm Viết Dũng | C6: 4.65 | D6: 0.45 | F6: =C6*E6 -> 0 | G6: 0.16 | H6: =(C6+D6+F6)*G6 -> 0.816 | I6: =(C6+D6+F6+H6)*$R$1 -> 8223240 | J6: 25520400 | K6: =I6+J6 -> 33743640 | L6: =K6*1% -> 337436.4 | R6: =L6 -> 337436.4
A7: 3 | B7: Nguyễn Thị Hoa | C7: 4.65 | D7: 0.35 | F7: =C7*E7 -> 0 | I7: =(C7+D7+F7+H7)*$R$1 -> 6950000 | J7: 25020000 | K7: =I7+J7 -> 31970000 | L7: =K7*1% -> 319700 | R7: =L7 -> 319700
A8: 4 | B8: Nguyễn Văn Chì | C8: 3 | F8: =C8*E8 -> 0 | I8: =(C8+D8+F8+H8)*$R$1 -> 4170000 | J8: 12009600 | K8: =I8+J8 -> 16179600 | L8: =K8*1% -> 161796 | R8: =L8 -> 161796
A9: 5 | B9: Nguyễn Thanh Lâm | C9: 4.98 | D9: 0.45 | E9: 0.11 | F9: =C9*E9 -> 0.5478 | G9: 0.16 | H9: =(C9+D9+F9)*G9 -> 0.956448 | I9: =(C9+D9+F9+H9)*$R$1 -> 9638604.7 | J9: 29912911 | K9: =I9+J9 -> 39551516 | L9: =K9*1% -> 395515.16 | R9: =L9 -> 395515.16
A10: 6 | B10: Nguyễn Văn Chiến | C10: 3.66 | D10: 0.35 | F10: =C10*E10 -> 0 | I10: =(C10+D10+F10+H10)*$R$1 -> 5573900 | J10: 20066040 | K10: =I10+J10 -> 25639940 | L10: =K10*1% -> 256399.4 | R10: =L10 -> 256399.4
A11: 7 | B11: Nguyễn Văn Tấn | C11: 4.98 | D11: 0.35 | E11: 0.1 | F11: =C11*E11 -> 0.498 | I11: =(C11+D11+F11+H11)*$R$1 -> 8100920 | J11: 29163312 | K11: =I11+J11 -> 37264232 | L11: =K11*1% -> 372642.32 | R11: =L11 -> 372642.32
A12: 8 | B12: Nguyễn Thị Kim Dung | C12: 3.66 | D12: 0.35 | F12: =C12*E12 -> 0 | I12: =(C12+D12+F12+H12)*$R$1 -> 5573900 | J12: 20066040 | K12: =I12+J12 -> 25639940 | L12: =K12*1% -> 256399.4 | R12: =L12 -> 256399.4
A13: 9 | B13: Nguyễn Chí Nhân | C13: 3.99 | D13: 0.45 | F13: =C13*E13 -> 0 | G13: 0.13 | H13: =(C13+D13+F13)*G13 -> 0.5772 | I13: =(C13+D13+F13+H13)*$R$1 -> 6973908 | J13: 22217760 | K13: =I13+J13 -> 29191668 | L13: =K13*1% -> 291916.68 | R13: =L13 -> 291916.68
A14: 10 | B14: Lê Quang Liêm | C14: 4.65 | D14: 0.45 | F14: =C14*E14 -> 0 | G14: 0.17 | H14: =(C14+D14+F14)*G14 -> 0.867 | I14: =(C14+D14+F14+H14)*$R$1 -> 8294130 | J14: 25520400 | K14: =I14+J14 -> 33814530 | L14: =K14*1% -> 338145.3 | R14: =L14 -> 338145.3
A15: 11 | B15: Võ Thị Xuân Thơ | C15: 3.99 | F15: =C15*E15 -> 0 | I15: =(C15+D15+F15+H15)*$R$1 -> 5546100 | J15: 19965960 | K15: =I15+J15 -> 25512060 | L15: =K15*1% -> 255120.6 | R15: =L15 -> 255120.6
A16: 12 | B16: Phạm Hữu Tấn | C16: 2.67 | F16: =C16*E16 -> 0 | I16: =(C16+D16+F16+H16)*$R$1 -> 3711300 | K16: =I16+J16 -> 3711300 | L16: =K16*1% -> 37113 | R16: =L16 -> 37113
A17: 13 | B17: Nguyễn Ngọc Trang | C17: 5.42 | D17: 0.45 | F17: =C17*E17 -> 0 | G17: 0.26 | H17: =(C17+D17+F17)*G17 -> 1.5262 | I17: =(C17+D17+F17+H17)*$R$1 -> 10280718 | J17: 29373480 | K17: =I17+J17 -> 39654198 | L17: =K17*1% -> 396541.98 | R17: =L17 -> 396541.98
A18: 14 | B18: Trương Thị Hồng | C18: 2.67 | F18: =C18*E18 -> 0 | H18: =(C18+D18+F18)*G18 -> 0 | I18: =(C18+D18+F18+H18)*$R$1 -> 3711300 | K18: =I18+J18 -> 3711300 | L18: =K18*1% -> 37113 | R18: =L18 -> 37113
A19: 15 | B19: Nguyễn Yến Nhi | C19: 3 | F19: =C19*E19 -> 0 | H19: =(C19+D19+F19)*G19 -> 0 | I19: =(C19+D19+F19+H19)*$R$1 -> 4170000 | K19: =I19+J19 -> 4170000 | L19: =K19*1% -> 41700 | R19: =L19 -> 41700
A20: 16 | B20: Lưu Hoàng Hải Yến | C20: 2.67 | F20: =C20*E20 -> 0 | I20: =(C20+D20+F20+H20)*$R$1 -> 3711300 | J20: 13360680 | K20: =I20+J20 -> 17071980 | L20: =K20*1% -> 170719.8 | R20: =L20 -> 170719.8
A21: 17 | B21: Trần Quốc Định | C21: 2.41 | F21: =C21*E21 -> 0 | I21: =(C21+D21+F21+H21)*$R$1 -> 3349900 | K21: =I21+J21 -> 3349900 | L21: =K21*1% -> 33499 | R21: =L21 -> 33499
A22: 18 | B22: Lương Xuân Thịnh | C22: 1.989 | F22: =C22*E22 -> 0 | I22: =(C22+D22+F22+H22)*$R$1 -> 2764710 | K22: =I22+J22 -> 2764710 | L22: =K22*1% -> 27647.1 | R22: =L22 -> 27647.1
A23: 19 | B23: Nguyễn Thành Nam | C23: 3.99 | D23: 0.35 | F23: =C23*E23 -> 0 | H23: 0.6076 | I23: =(C23+D23+F23+H23)*$R$1 -> 6877164 | J23: 7239120 | K23: =I23+J23 -> 14116284 | L23: =K23*1% -> 141162.84 | R23: =L23 -> 141162.84
A24: 20 | B24: Thái Thị My Sa | C24: 2.67 | F24: =C24*E24 -> 0 | I24: =(C24+D24+F24+H24)*$R$1 -> 3711300 | K24: =I24+J24 -> 3711300 | L24: =K24*0.005 -> 18556.5 | R24: =L24+L25 -> 89813.46
J25: 7125696 | K25: =J25 -> 7125696 | L25: =K25*1% -> 71256.96
A26: TỔNG CỘNG: | K26: =SUM(K5:K25) -> 4.4117109e+08 | L26: =SUM(L5:L25) -> 4393154.4 | M26: =SUM(M5:M24) -> 0 | N26: =SUM(N5:N24) -> 0 | O26: =SUM(O5:O24) -> 0 | P26: =SUM(P5:P24) -> 0 | Q26: =SUM(Q5:Q24) -> 0 | R26: =SUM(R5:R25) -> 4393154.4
B27: Ghi chú: Đảng viên Thái Thị My Sa, nghỉ chế độ thai sản từ 1/2/2019 - 1/8/2019 (Đóng 5%)
A28: - Chi bộ trích lại 30% tiền thu đảng phí: | D28: =R26*30% -> 1317946.3
A29: - Chi bộ nộp lên đảng bộ trường 70%: | D29: =R26*70% -> 3075208.1
A31: NGƯỜI LẬP BÁO CÁO | L31: T/M CHI BỘ
K32: BÍ THƯ
A38: Nguyễn Thị Hoa | K38: Lâm Viết Dũng

Sheet THANG 7
A1: ĐẢNG BỘ TRƯỜNG CAO ĐẲNG LÝ TỰ TRỌNG THÀNH PHỐ HỒ CHÍ MINH CHI BỘ 2 * | G1: CỘNG HÒA XÃ HỘI CHỦ NGHĨA VIỆT NAM Độc lập - Tự do - Hạnh phúc | R1: 1390000
A2: BẢNG TỔNG HỢP Các khoản thu nhập dùng để tính đóng đảng phí tháng 7/2019 và truy thu Thi đua từ T1-T6/2019
A3: TT | B3: Họ tên | C3: HS lương | D3: PC CV | E3: PC VK | G3: Phụ cấp TNNG | I3: Tổng lương | J3: Truy thu thi đua (T1-T6) | K3: Tổng số tiền tính đảng phí | L3: Đảng phí 1% | M3: Truy thu | R3: Số tiền nộp
A4: 1 | B4: 2 | C4: 3 | D4: 4 | E4: 5 | F4: 6=3*5 | G4: 7 | H4: 8=(3+4+6)*7 | I4: 9 | J4: 10 | K4: 11=9+10 | L4: 12=11*1% | R4: 13
A5: 1 | B5: Phạm Hữu Lộc | C5: 4.98 | D5: 0.9 | E5: 0.09 | F5: =C5*E5 -> 0.4482 | G5: 0.32 | H5: =(C5+D5+F5)*G5 -> 2.025024 | I5: =(C5+D5+F5+H5)*$R$1 -> 11610981 | J5: =((C5+D5)*$R$1)*6 -> 49039200 | K5: =J5+I5 -> 60650181 | L5: =K5*1% -> 606501.81 | R5: =L5 -> 606501.81
A6: 2 | B6: Lâm Viết Dũng | C6: 4.65 | D6: 0.45 | F6: =C6*E6 -> 0 | G6: 0.16 | H6: =(C6+D6+F6)*G6 -> 0.816 | I6: =(C6+D6+F6+H6)*$R$1 -> 8223240 | J6: =((C6+D6)*$R$1)*6 -> 42534000 | K6: =J6+I6 -> 50757240 | L6: =K6*1% -> 507572.4 | R6: =L6 -> 507572.4
A7: 3 | B7: Nguyễn Thị Hoa | C7: 4.65 | D7: 0.35 | F7: =C7*E7 -> 0 | I7: =(C7+D7+F7+H7)*$R$1 -> 6950000 | J7: =((C7+D7)*$R$1)*6 -> 41700000 | K7: =J7+I7 -> 48650000 | L7: =K7*1% -> 486500 | R7: =L7 -> 486500
A8: 4 | B8: Nguyễn Văn Chì | C8: 3 | F8: =C8*E8 -> 0 | I8: =(C8+D8+F8+H8)*$R$1 -> 4170000 | J8: =((C8+D8)*$R$1)*6 -> 25020000 | K8: =J8+I8 -> 29190000 | L8: =K8*1% -> 291900 | R8: =L8 -> 291900
A9: 5 | B9: Nguyễn Thanh Lâm | C9: 4.98 | D9: 0.45 | E9: 0.11 | F9: =C9*E9 -> 0.5478 | G9: 0.16 | H9: =(C9+D9+F9)*G9 -> 0.956448 | I9: =(C9+D9+F9+H9)*$R$1 -> 9638604.7 | J9: =((C9+D9)*$R$1)*6 -> 45286200 | K9: =J9+I9 -> 54924805 | L9: =K9*1% -> 549248.05 | R9: =L9 -> 549248.05
A10: 6 | B10: Nguyễn Văn Chiến | C10: 3.66 | D10: 0.35 | F10: =C10*E10 -> 0 | I10: =(C10+D10+F10+H10)*$R$1 -> 5573900 | J10: =((C10+D10)*$R$1)*6 -> 33443400 | K10: =J10+I10 -> 39017300 | L10: =K10*1% -> 390173 | R10: =L10 -> 390173
A11: 7 | B11: Nguyễn Văn Tấn | C11: 4.98 | D11: 0.35 | E11: 0.1 | F11: =C11*E11 -> 0.498 | I11: =(C11+D11+F11+H11)*$R$1 -> 8100920 | J11: =((C11+D11)*$R$1)*6 -> 44452200 | K11: =J11+I11 -> 52553120 | L11: =K11*1% -> 525531.2 | R11: =L11 -> 525531.2
A12: 8 | B12: Nguyễn Thị Kim Dung | C12: 3.66 | D12: 0.35 | F12: =C12*E12 -> 0 | I12: =(C12+D12+F12+H12)*$R$1 -> 5573900 | J12: =((C12+D12)*$R$1)*6 -> 33443400 | K12: =J12+I12 -> 39017300 | L12: =K12*1% -> 390173 | R12: =L12 -> 390173
A13: 9 | B13: Nguyễn Chí Nhân | C13: 3.99 | D13: 0.45 | F13: =C13*E13 -> 0 | G13: 0.13 | H13: =(C13+D13+F13)*G13 -> 0.5772 | I13: =(C13+D13+F13+H13)*$R$1 -> 6973908 | J13: =((C13+D13)*$R$1)*6 -> 37029600 | K13: =J13+I13 -> 44003508 | L13: =K13*1% -> 440035.08 | R13: =L13 -> 440035.08
A14: 10 | B14: Lê Quang Liêm | C14: 4.65 | D14: 0.45 | F14: =C14*E14 -> 0 | G14: 0.17 | H14: =(C14+D14+F14)*G14 -> 0.867 | I14: =(C14+D14+F14+H14)*$R$1 -> 8294130 | J14: =((C14+D14)*$R$1)*6 -> 42534000 | K14: =J14+I14 -> 50828130 | L14: =K14*1% -> 508281.3 | R14: =L14 -> 508281.3
A15: 11 | B15: Võ Thị Xuân Thơ | C15: 3.99 | F15: =C15*E15 -> 0 | I15: =(C15+D15+F15+H15)*$R$1 -> 5546100 | J15: =((C15+D15)*$R$1)*6 -> 33276600 | K15: =J15+I15 -> 38822700 | L15: =K15*1% -> 388227 | R15: =L15 -> 388227
A16: 12 | B16: Phạm Hữu Tấn | C16: 2.67 | F16: =C16*E16 -> 0 | I16: =(C16+D16+F16+H16)*$R$1 -> 3711300 | J16: =((C16+D16)*$R$1)*6 -> 22267800 | K16: =J16+I16 -> 25979100 | L16: =K16*1% -> 259791 | R16: =L16 -> 259791
A17: 13 | B17: Nguyễn Ngọc Trang | C17: 5.42 | D17: 0.45 | F17: =C17*E17 -> 0 | G17: 0.26 | H17: =(C17+D17+F17)*G17 -> 1.5262 | I17: =(C17+D17+F17+H17)*$R$1 -> 10280718 | J17: =((C17+D17)*$R$1)*6 -> 48955800 | K17: =J17+I17 -> 59236518 | L17: =K17*1% -> 592365.18 | R17: =L17 -> 592365.18
A18: 14 | B18: Trương Thị Hồng | C18: 2.67 | F18: =C18*E18 -> 0 | H18: =(C18+D18+F18)*G18 -> 0 | I18: =(C18+D18+F18+H18)*$R$1 -> 3711300 | J18: =((C18+D18)*$R$1)*6 -> 22267800 | K18: =J18+I18 -> 25979100 | L18: =K18*1% -> 259791 | R18: =L18 -> 259791
A19: 15 | B19: Nguyễn Yến Nhi | C19: 3 | F19: =C19*E19 -> 0 | H19: =(C19+D19+F19)*G19 -> 0 | I19: =(C19+D19+F19+H19)*$R$1 -> 4170000 | J19: =((C19+D19)*$R$1)*6 -> 25020000 | K19: =J19+I19 -> 29190000 | L19: =K19*1% -> 291900 | R19: =L19 -> 291900
A20: 16 | B20: Lưu Hoàng Hải Yến | C20: 2.67 | F20: =C20*E20 -> 0 | I20: =(C20+D20+F20+H20)*$R$1 -> 3711300 | J20: =((C20+D20)*$R$1)*6 -> 22267800 | K20: =J20+I20 -> 25979100 | L20: =K20*1% -> 259791 | R20: =L20 -> 259791
A21: 17 | B21: Trần Quốc Định | C21: 2.41 | F21: =C21*E21 -> 0 | I21: =(C21+D21+F21+H21)*$R$1 -> 3349900 | J21: =((C21+D21)*$R$1)*6 -> 20099400 | K21: =J21+I21 -> 23449300 | L21: =K21*1% -> 234493 | R21: =L21 -> 234493
A22: 18 | B22: Lương Xuân Thịnh | C22: 1.989 | F22: =C22*E22 -> 0 | I22: =(C22+D22+F22+H22)*$R$1 -> 2764710 | J22: =C22*R1 -> 2764710 | K22: =J22+I22 -> 5529420 | L22: =K22*1% -> 55294.2 | R22: =L22 -> 55294.2
A23: 19 | B23: Nguyễn Thành Nam | C23: 3.99 | D23: 0.35 | F23: =C23*E23 -> 0 | H23: 0.6076 | I23: =(C23+D23+F23+H23)*$R$1 -> 6877164 | J23: =(C23+D23)*R1 -> 6032600 | K23: =J23+I23 -> 12909764 | L23: =K23*1% -> 129097.64 | R23: =L23 -> 129097.64
A24: 20 | B24: Thái Thị My Sa | C24: 2.67 | F24: =C24*E24 -> 0 | I24: =(C24+D24+F24+H24)*$R$1 -> 3711300 | K24: =J24+I24 -> 3711300 | L24: =K24*0.005 -> 18556.5 | R24: =L24+L25 -> 55669.5
J25: 3711300 | K25: =J25+I25 -> 3711300 | L25: =K25*1% -> 37113
A26: TỔNG CỘNG: | J26: =SUM(J5:J24) -> 597434510 | K26: =SUM(K5:K24) -> 7.2037789e+08 | L26: =SUM(L5:L24) -> 7185222.4 | M26: =SUM(M5:M24) -> 0 | N26: =SUM(N5:N24) -> 0 | O26: =SUM(O5:O24) -> 0 | P26: =SUM(P5:P24) -> 0 | Q26: =SUM(Q5:Q24) -> 0 | R26: =SUM(R5:R24) -> 7222335.4
B27: Ghi chú: Đảng viên Thái Thị My Sa, nghỉ chế độ thai sản từ 1/2/2019 - 1/8/2019 (Đóng 5%)
A28: - Chi bộ trích lại 30% tiền thu đảng phí: | D28: =R26*30% -> 2166700.6
A29: - Chi bộ nộp lên đảng bộ trường 70%: | D29: =R26*70% -> 5055634.8
A31: NGƯỜI LẬP BÁO CÁO | L31: T/M CHI BỘ
L32: BÍ THƯ
A38: Nguyễn Thị Hoa | K38: Lâm Viết Dũng

Sheet THANG 8
A1: ĐẢNG BỘ TRƯỜNG CAO ĐẲNG LÝ TỰ TRỌNG THÀNH PHỐ HỒ CHÍ MINH CHI BỘ 2 * | G1: CỘNG HÒA XÃ HỘI CHỦ NGHĨA VIỆT NAM Độc lập - Tự do - Hạnh phúc | W1: 1490000
A2: BẢNG TỔNG HỢP Các khoản thu nhập dùng để tính đóng đảng phí tháng 8/2019 và truy thu tiền hiệu quả quý 2/2019
A3: TT | B3: Họ tên | C3: HS lương | D3: PC CV | E3: PC VK | G3: Phụ cấp TNNG | J3: Tổng lương | K3: 1% Lương | L3: Thi đua T7/2019 | M3: Truy thu hiệu quả quý 2/2019 | N3: Tổng các khoản thu khác | O3: 1% Các khoản thu khác | P3: Tổng số tiền tính đảng phí | Q3: Đảng phí 1% | R3: Truy thu | W3: Số tiền nộp
A4: 1 | B4: 2 | C4: 3 | D4: 4 | E4: 5 | F4: 6=3*5 | G4: 7 | H4: 8=(3+4+6)*7 | J4: 9 | L4: 10 | M4: 11 | P4: 12=9+10+11 | Q4: 13=11*1% | W4: 13
A5: 1 | B5: Phạm Hữu Lộc | C5: 4.98 | D5: 0.9 | E5: 0.09 | F5: =C5*E5 -> 0.4482 | G5: 0.32 | H5: =(C5+D5+F5)*G5 -> 2.025024 | I5: =C5+D5+F5+H5 -> 8.353224 | J5: =ROUND(I5*$W$1,0) -> 12446304 | K5: =ROUND(J5*1%,0) -> 124463 | L5: 9523308 | M5: 31666313 | N5: =ROUND(L5+M5,0) -> 41189621 | O5: =ROUND(N5*1%,0) -> 411896 | P5: =ROUND(J5+N5,0) -> 53635925 | Q5: =P5*1% -> 536359.25 | W5: =Q5 -> 536359.25
A6: 2 | B6: Lâm Viết Dũng | C6: 4.65 | D6: 0.45 | F6: =C6*E6 -> 0 | G6: 0.16 | H6: =(C6+D6+F6)*G6 -> 0.816 | I6: =C6+D6+F6+H6 -> 5.916 | J6: =ROUND(I6*$W$1,0) -> 8814840 | K6: =ROUND(J6*1%,0) -> 88148 | L6: 7674990 | M6: 25520400 | N6: =ROUND(L6+M6,0) -> 33195390 | O6: =ROUND(N6*1%,0) -> 331954 | P6: =ROUND(J6+N6,0) -> 42010230 | Q6: =P6*1% -> 420102.3 | W6: =Q6 -> 420102.3
A7: 3 | B7: Nguyễn Thị Hoa | C7: 4.65 | D7: 0.35 | F7: =C7*E7 -> 0 | I7: =C7+D7+F7+H7 -> 5 | J7: =ROUND(I7*$W$1,0) -> 7450000 | K7: =ROUND(J7*1%,0) -> 74500 | L7: 6552761 | M7: 25020000 | N7: =ROUND(L7+M7,0) -> 31572761 | O7: =ROUND(N7*1%,0) -> 315728 | P7: =ROUND(J7+N7,0) -> 39022761 | Q7: =P7*1% -> 390227.61 | W7: =Q7 -> 390227.61
A8: 4 | B8: Nguyễn Văn Chì | C8: 3 | F8: =C8*E8 -> 0 | I8: =C8+D8+F8+H8 -> 3 | J8: =ROUND(I8*$W$1,0) -> 4470000 | K8: =ROUND(J8*1%,0) -> 44700 | L8: 4320352 | M8: 14765900 | N8: =ROUND(L8+M8,0) -> 19086252 | O8: =ROUND(N8*1%,0) -> 190863 | P8: =ROUND(J8+N8,0) -> 23556252 | Q8: =P8*1% -> 235562.52 | W8: =Q8 -> 235562.52
A9: 5 | B9: Nguyễn Thanh Lâm | C9: 4.98 | D9: 0.45 | E9: 0.11 | F9: =C9*E9 -> 0.5478 | G9: 0.16 | H9: =(C9+D9+F9)*G9 -> 0.956448 | I9: =C9+D9+F9+H9 -> 6.934248 | J9: =ROUND(I9*$W$1,0) -> 10332030 | K9: =ROUND(J9*1%,0) -> 103320 | L9: 8995991 | M9: 29912911 | N9: =ROUND(L9+M9,0) -> 38908902 | O9: =ROUND(N9*1%,0) -> 389089 | P9: =ROUND(J9+N9,0) -> 49240932 | Q9: =P9*1% -> 492409.32 | W9: =Q9 -> 492409.32
A10: 6 | B10: Nguyễn Văn Chiến | C10: 3.66 | D10: 0.35 | F10: =C10*E10 -> 0 | I10: =C10+D10+F10+H10 -> 4.01 | J10: =ROUND(I10*$W$1,0) -> 5974900 | K10: =ROUND(J10*1%,0) -> 59749 | L10: 6185139 | M10: 20066040 | N10: =ROUND(L10+M10,0) -> 26251179 | O10: =ROUND(N10*1%,0) -> 262512 | P10: =ROUND(J10+N10,0) -> 32226079 | Q10: =P10*1% -> 322260.79 | W10: =Q10 -> 322260.79
A11: 7 | B11: Nguyễn Văn Tấn | C11: 4.98 | D11: 0.35 | E11: 0.1 | F11: =C11*E11 -> 0.498 | I11: =C11+D11+F11+H11 -> 5.828 | J11: =ROUND(I11*$W$1,0) -> 8683720 | K11: =ROUND(J11*1%,0) -> 86837 | L11: 8770557 | M11: 29163312 | N11: =ROUND(L11+M11,0) -> 37933869 | O11: =ROUND(N11*1%,0) -> 379339 | P11: =ROUND(J11+N11,0) -> 46617589 | Q11: =P11*1% -> 466175.89 | W11: =Q11 -> 466175.89
A12: 8 | B12: Nguyễn Thị Kim Dung | C12: 3.66 | D12: 0.35 | F12: =C12*E12 -> 0 | I12: =C12+D12+F12+H12 -> 4.01 | J12: =ROUND(I12*$W$1,0) -> 5974900 | K12: =ROUND(J12*1%,0) -> 59749 | L12: 6034649 | M12: 20066040 | N12: =ROUND(L12+M12,0) -> 26100689 | O12: =ROUND(N12*1%,0) -> 261007 | P12: =ROUND(J12+N12,0) -> 32075589 | Q12: =P12*1% -> 320755.89 | W12: =Q12 -> 320755.89
A13: 9 | B13: Nguyễn Chí Nhân | C13: 3.99 | D13: 0.45 | F13: =C13*E13 -> 0 | G13: 0.13 | H13: =(C13+D13+F13)*G13 -> 0.5772 | I13: =C13+D13+F13+H13 -> 5.0172 | J13: =ROUND(I13*$W$1,0) -> 7475628 | K13: =ROUND(J13*1%,0) -> 74756 | L13: 6681756 | M13: 22217760 | N13: =ROUND(L13+M13,0) -> 28899516 | O13: =ROUND(N13*1%,0) -> 288995 | P13: =ROUND(J13+N13,0) -> 36375144 | Q13: =P13*1% -> 363751.44 | W13: =Q13 -> 363751.44
A14: 10 | B14: Lê Quang Liêm | C14: 4.65 | D14: 0.45 | F14: =C14*E14 -> 0 | G14: 0.17 | H14: =(C14+D14+F14)*G14 -> 0.867 | I14: =C14+D14+F14+H14 -> 5.967 | J14: =ROUND(I14*$W$1,0) -> 8890830 | K14: =ROUND(J14*1%,0) -> 88908 | L14: 7674990 | M14: 25520400 | N14: =ROUND(L14+M14,0) -> 33195390 | O14: =ROUND(N14*1%,0) -> 331954 | P14: =ROUND(J14+N14,0) -> 42086220 | Q14: =P14*1% -> 420862.2 | W14: =Q14 -> 420862.2
A15: 11 | B15: Võ Thị Xuân Thơ | C15: 3.99 | F15: =C15*E15 -> 0 | I15: =C15+D15+F15+H15 -> 3.99 | J15: =ROUND(I15*$W$1,0) -> 5945100 | K15: =ROUND(J15*1%,0) -> 59451 | L15: 6004551 | M15: 19965960 | N15: =ROUND(L15+M15,0) -> 25970511 | O15: =ROUND(N15*1%,0) -> 259705 | P15: =ROUND(J15+N15,0) -> 31915611 | Q15: =P15*1% -> 319156.11 | W15: =Q15 -> 319156.11
A16: 12 | B16: Phạm Hữu Tấn | C16: 1.5 | F16: =C16*E16 -> 0 | I16: =C16+D16+F16+H16 -> 1.5 | J16: =ROUND(I16*$W$1,0) -> 2235000 | K16: =ROUND(J16*1%,0) -> 22350 | L16: 2257350 | N16: =ROUND(L16+M16,0) -> 2257350 | O16: =ROUND(N16*1%,0) -> 22574 | P16: =ROUND(J16+N16,0) -> 4492350 | Q16: =P16*1% -> 44923.5 | W16: =Q16 -> 44923.5
A17: 13 | B17: Nguyễn Ngọc Trang | C17: 5.42 | D17: 0.45 | F17: =C17*E17 -> 0 | G17: 0.26 | H17: =(C17+D17+F17)*G17 -> 1.5262 | I17: =C17+D17+F17+H17 -> 7.3962 | J17: =ROUND(I17*$W$1,0) -> 11020338 | K17: =ROUND(J17*1%,0) -> 110203 | L17: 8453489 | M17: 29373480 | N17: =ROUND(L17+M17,0) -> 37826969 | O17: =ROUND(N17*1%,0) -> 378270 | P17: =ROUND(J17+N17,0) -> 48847307 | Q17: =P17*1% -> 488473.07 | W17: =Q17 -> 488473.07
A18: 14 | B18: Trương Thị Hồng | C18: 2.67 | F18: =C18*E18 -> 0 | H18: =(C18+D18+F18)*G18 -> 0 | I18: =C18+D18+F18+H18 -> 2.67 | J18: =ROUND(I18*$W$1,0) -> 3978300 | K18: =ROUND(J18*1%,0) -> 39783 | L18: 2986672 | N18: =ROUND(L18+M18,0) -> 2986672 | O18: =ROUND(N18*1%,0) -> 29867 | P18: =ROUND(J18+N18,0) -> 6964972 | Q18: =P18*1% -> 69649.72 | W18: =Q18 -> 69649.72
A19: 15 | B19: Nguyễn Yến Nhi | C19: 3 | F19: =C19*E19 -> 0 | H19: =(C19+D19+F19)*G19 -> 0 | I19: =C19+D19+F19+H19 -> 3 | J19: =ROUND(I19*$W$1,0) -> 4470000 | K19: =ROUND(J19*1%,0) -> 44700 | L19: 4183589 | N19: =ROUND(L19+M19,0) -> 4183589 | O19: =ROUND(N19*1%,0) -> 41836 | P19: =ROUND(J19+N19,0) -> 8653589 | Q19: =P19*1% -> 86535.89 | W19: =Q19 -> 86535.89
A20: 16 | B20: Lưu Hoàng Hải Yến | C20: 2.67 | F20: =C20*E20 -> 0 | I20: =C20+D20+F20+H20 -> 2.67 | J20: =ROUND(I20*$W$1,0) -> 3978300 | K20: =ROUND(J20*1%,0) -> 39783 | L20: 4018083 | M20: 13360680 | N20: =ROUND(L20+M20,0) -> 17378763 | P20: =ROUND(J20+N20,0) -> 21357063 | Q20: =P20*1% -> 213570.63 | W20: =Q20 -> 213570.63
A21: 17 | B21: Trần Quốc Định | C21: 2.41 | F21: =C21*E21 -> 0 | I21: =C21+D21+F21+H21 -> 2.41 | J21: =ROUND(I21*$W$1,0) -> 3590900 | K21: =ROUND(J21*1%,0) -> 35909 | L21: 3227820 | N21: =ROUND(L21+M21,0) -> 3227820 | P21: =ROUND(J21+N21,0) -> 6818720 | Q21: =P21*1% -> 68187.2 | W21: =Q21 -> 68187.2
A22: 18 | B22: Lương Xuân Thịnh | C22: 1.989 | F22: =C22*E22 -> 0 | I22: =C22+D22+F22+H22 -> 1.989 | J22: =ROUND(I22*$W$1,0) -> 2963610 | K22: =ROUND(J22*1%,0) -> 29636 | L22: 2993246 | N22: =ROUND(L22+M22,0) -> 2993246 | P22: =ROUND(J22+N22,0) -> 5956856 | Q22: =P22*1% -> 59568.56 | W22: =Q22 -> 59568.56
A23: 19 | B23: Nguyễn Thành Nam | C23: 3.99 | D23: 0.35 | F23: =C23*E23 -> 0 | H23: 0.6076 | I23: =C23+D23+F23+H23 -> 4.9476 | J23: =ROUND(I23*$W$1,0) -> 7371924 | K23: =ROUND(J23*1%,0) -> 73719 | L23: 6531266 | M23: 21717360 | N23: =ROUND(L23+M23,0) -> 28248626 | P23: =ROUND(J23+N23,0) -> 35620550 | Q23: =P23*1% -> 356205.5 | W23: =Q23 -> 356205.5
A24: 20 | B24: Thái Thị My Sa | C24: 2.67 | F24: =C24*E24 -> 0 | I24: =C24+D24+F24+H24 -> 2.67 | J24: =ROUND(I24*$W$1,0) -> 3978300 | K24: =ROUND(J24*1%,0) -> 39783 | P24: =ROUND(J24+N24,0) -> 3978300 | Q24: =P24*0.005 -> 19891.5 | W24: =Q24 -> 19891.5
A25: TỔNG CỘNG: | L25: =SUM(L5:L24) -> 113070559 | Q25: =SUM(Q5:Q24) -> 5694628.9 | R25: =SUM(R5:R24) -> 0 | S25: =SUM(S5:S24) -> 0 | T25: =SUM(T5:T24) -> 0 | U25: =SUM(U5:U24) -> 0 | V25: =SUM(V5:V24) -> 0 | W25: =SUM(W5:W24) -> 5694628.9
B26: Ghi chú: Đảng viên Thái Thị My Sa, nghỉ chế độ thai sản từ 1/2/2019 - 1/8/2019 (Đóng 5%)
A27: - Chi bộ trích lại 30% tiền thu đảng phí: | D27: =W25*30% -> 1708388.7
A28: - Chi bộ nộp lên đảng bộ trường 70%: | D28: =W25*70% -> 3986240.2
A30: NGƯỜI LẬP BÁO CÁO | Q30: T/M CHI BỘ
Q31: BÍ THƯ
A37: Nguyễn Thị Hoa | P37: Lâm Viết Dũng
